BEGIN:VCALENDAR
VERSION:2.0
CALSCALE:GREGORIAN
PRODID:-//Diputació de Barcelona//DibaCMS//EN
BEGIN:VEVENT
UID:12979
DTSTAMP:20260426T033746
DTSTART:20260124T110500
DTEND:20260124T112500
SUMMARY:Toc d’inici de Festa Major d’Hivern
LOCATION:Plaça de la Vila 
METHOD:PUBLISH
X-WR-CALNAME:info@parets.cat
X-WR-TIMEZONE:Europe/Madrid
DESCRIPTION: Toc d’inici de Festa Major d’Hivern: Entrada de les figures de Parets per iniciar la festa gran d’hivern

URI:https://www.parets.cat/actualitat/agenda/12979-toc-dinici-de-festa-major-dhivern.html
CLASS:PUBLIC
END:VEVENT
END:VCALENDAR
