BEGIN:VCALENDAR
VERSION:2.0
CALSCALE:GREGORIAN
PRODID:-//Diputació de Barcelona//DibaCMS//EN
BEGIN:VEVENT
UID:12981
DTSTAMP:20260426T033959
DTSTART:20260124T123000
DTEND:20260124T140000
SUMMARY:Inauguració de la IX Trobada de Bestiari Diables Parets
LOCATION:Aparcament la Linera 
METHOD:PUBLISH
X-WR-CALNAME:info@parets.cat
X-WR-TIMEZONE:Europe/Madrid
DESCRIPTION:Inauguració de la IX Trobada de Bestiari Diables Parets: Presentació de les bèsties amb el seu ball tradicional amb un petit lluïment.

URI:https://www.parets.cat/actualitat/agenda/inauguracio-de-la-ix-trobada-de-bestiari-diables-parets.html
CLASS:PUBLIC
END:VEVENT
END:VCALENDAR
