BEGIN:VCALENDAR
VERSION:2.0
CALSCALE:GREGORIAN
PRODID:-//Diputació de Barcelona//DibaCMS//EN
BEGIN:VEVENT
UID:12982
DTSTAMP:20260426T032710
DTSTART:20260124T140000
DTEND:20260124T153000
SUMMARY:XXVIII Calçotada Popular
LOCATION:La Salut, 50-52. 08150 Parets del Vallès
METHOD:PUBLISH
X-WR-CALNAME:info@parets.cat
X-WR-TIMEZONE:Europe/Madrid
DESCRIPTION:14h XXVIII Calçotada Popular

10 € àpat sencer (calçots i botifarra)

5 € reserva de taula, beguda i postres

Sense tiquet s’assignarà la taula disponible el mateix dia

Venda de tiquets a partir del 7 de gener. En el moment de comprar el tiquet, es triarà la taula on es dinarà. Els grups que vulguin dinar junts hauran de comprar els tiquets de forma conjunta

En cas de pluja es farà l’endemà, diumenge 25 de gener

URI:https://www.parets.cat/actualitat/agenda/xxviii-calcotada-popular.html
CLASS:PUBLIC
END:VEVENT
END:VCALENDAR
