BEGIN:VCALENDAR
VERSION:2.0
CALSCALE:GREGORIAN
PRODID:-//Diputació de Barcelona//DibaCMS//EN
BEGIN:VEVENT
UID:12983
DTSTAMP:20260426T021317
DTSTART:20260124T153000
DTEND:20260124T170000
SUMMARY:Concert de Juego de Damas 
LOCATION:La Salut, 50-52. 08150 Parets del Vallès
METHOD:PUBLISH
X-WR-CALNAME:info@parets.cat
X-WR-TIMEZONE:Europe/Madrid
DESCRIPTION:Concert de Juego de Damas (clàssics pop-rock)

URI:https://www.parets.cat/actualitat/agenda/concert-de-juego-de-damas-.html
CLASS:PUBLIC
END:VEVENT
END:VCALENDAR
