BEGIN:VCALENDAR
VERSION:2.0
CALSCALE:GREGORIAN
PRODID:-//Diputació de Barcelona//DibaCMS//EN
BEGIN:VEVENT
UID:13025
DTSTAMP:20260419T200248
DTSTART:20260904T160000
DTEND:20260904T190000
SUMMARY:"Tardeo" Benestar Emocional
LOCATION:Sala Serra 
METHOD:PUBLISH
X-WR-CALNAME:info@parets.cat
X-WR-TIMEZONE:Europe/Madrid
DESCRIPTION:"Tardeo" de Benestar Emocional, a càrrec de Priscila.

Espai segur que busca proporcionar un entorn d’aprenentatge i comprensió de diverses temàtiques vinculades al benestar emocional. Es configuren com un espai de trobada destinat a afavorir la participació, la socialització i l’intercanvi d’experiències, promovent el respecte i la confiança.

Per a més informació ens podeu escriure a benestar.emocional@parets.cat o trucar al 667 830 121.

URI:https://www.parets.cat/actualitat/agenda/13025-tardeo-benestar-emocional.html
CLASS:PUBLIC
END:VEVENT
END:VCALENDAR
