BEGIN:VCALENDAR
VERSION:2.0
CALSCALE:GREGORIAN
PRODID:-//Diputació de Barcelona//DibaCMS//EN
BEGIN:VEVENT
UID:13043
DTSTAMP:20260421T170248
DTSTART:20261128T100000
DTEND:20261128T130000
SUMMARY:Mini Congrés: Relacions
LOCATION:Plaça de la Vila, S/N 08150 Parets del Vallès
METHOD:PUBLISH
X-WR-CALNAME:info@parets.cat
X-WR-TIMEZONE:Europe/Madrid
DESCRIPTION:Mini Congrés: Relacions

Conjunt d’experiències teoricopràctiques de 3 hores, impartides per l’equip motor i una altra professional, sobre els cinc àmbits fonamentals del Benestar Emocional: Relacions, Físic, nutrició i descans, Consciència, connexió corporal, espiritual i emocional, Psicoemocional i Musicoteràpia i natura.

URI:https://www.parets.cat/actualitat/agenda/mini-congres-relacions.html
CLASS:PUBLIC
END:VEVENT
END:VCALENDAR
