BEGIN:VCALENDAR
VERSION:2.0
CALSCALE:GREGORIAN
PRODID:-//Diputació de Barcelona//DibaCMS//EN
BEGIN:VEVENT
UID:13290
DTSTAMP:20260424T230351
DTSTART:20260506T183000
DTEND:20260506T200000
SUMMARY:Club de lectura fàcil a la biblioteca Can Rajoler
LOCATION:Travessera, 1. 08150 Parets del Vallès
METHOD:PUBLISH
X-WR-CALNAME:info@parets.cat
X-WR-TIMEZONE:Europe/Madrid
DESCRIPTION:Club de Lectura Fàcil en català. Tertúlia al voltant de la novel·la Joc brut, de Manuel de Pedrolo. A càrrec de Sergi Cercós.

URI:https://www.parets.cat/actualitat/agenda/13290-club-de-lectura-facil-a-la-biblioteca-can-rajoler.html
CLASS:PUBLIC
END:VEVENT
END:VCALENDAR
