BEGIN:VCALENDAR
VERSION:2.0
CALSCALE:GREGORIAN
PRODID:-//Diputació de Barcelona//DibaCMS//EN
BEGIN:VEVENT
UID:13292
DTSTAMP:20260424T230117
DTSTART:20260508T200000
DTEND:20260508T220000
SUMMARY:Sortida per la natura
LOCATION:Can Jornet 
METHOD:PUBLISH
X-WR-CALNAME:info@parets.cat
X-WR-TIMEZONE:Europe/Madrid
DESCRIPTION:Sortida per la natura. A la descoberta dels insectes de Gallecs. Sortida per la natura.

Informació i reserves a l’Escola de la Natura.

 

 

URI:https://www.parets.cat/actualitat/agenda/sortida-per-la-natura.html
CLASS:PUBLIC
END:VEVENT
END:VCALENDAR
