BEGIN:VCALENDAR
VERSION:2.0
CALSCALE:GREGORIAN
PRODID:-//Diputació de Barcelona//DibaCMS//EN
BEGIN:VEVENT
UID:9037
DTSTAMP:20260422T154039
DTSTART:20230101T190000
DTEND:20230101T000000
SUMMARY:Lo misteri de Nadal amb Quico el Cèlio, el Noi i el Mut de Ferreries
LOCATION:
METHOD:PUBLISH
X-WR-CALNAME:info@parets.cat
X-WR-TIMEZONE:Europe/Madrid
DESCRIPTION:Organitza: Servei de Cultura
URI:https://www.parets.cat/actualitat/agenda/lo-misteri-de-nadal-amb-quico-el-celio-el-noi-i-el-mut-de-ferreries.html
CLASS:PUBLIC
END:VEVENT
END:VCALENDAR
