BEGIN:VCALENDAR
VERSION:2.0
CALSCALE:GREGORIAN
PRODID:-//Diputació de Barcelona//DibaCMS//EN
BEGIN:VEVENT
UID:9042
DTSTAMP:20260422T220534
DTSTART:20230110T181500
DTEND:20230110T000000
SUMMARY:Bressol de contes a càrrec de Mercè Martínez
LOCATION:
METHOD:PUBLISH
X-WR-CALNAME:info@parets.cat
X-WR-TIMEZONE:Europe/Madrid
DESCRIPTION:Organitza: Biblioteca Can Butjosa
URI:https://www.parets.cat/actualitat/agenda/bressol-de-contes-a-carrec-de-merce-martinez.html
CLASS:PUBLIC
END:VEVENT
END:VCALENDAR
