BEGIN:VCALENDAR
VERSION:2.0
CALSCALE:GREGORIAN
PRODID:-//Diputació de Barcelona//DibaCMS//EN
BEGIN:VEVENT
UID:9048
DTSTAMP:20260422T204327
DTSTART:20230113T000000
DTEND:20230129T000000
SUMMARY:Orquestres i Llibertat (Museu etnològic de Barcelona)
LOCATION:
METHOD:PUBLISH
X-WR-CALNAME:info@parets.cat
X-WR-TIMEZONE:Europe/Madrid
DESCRIPTION:Organitza: Servei de Cultura i Associació de Cultures Avui
URI:https://www.parets.cat/actualitat/agenda/orquestres-i-llibertat-museu-etnologic-de-barcelona.html
CLASS:PUBLIC
END:VEVENT
END:VCALENDAR
