BEGIN:VCALENDAR
VERSION:2.0
CALSCALE:GREGORIAN
PRODID:-//Diputació de Barcelona//DibaCMS//EN
BEGIN:VEVENT
UID:9049
DTSTAMP:20260422T185216
DTSTART:20230113T193000
DTEND:20230129T000000
SUMMARY:Visita guiada "el perquè de l'exposició" i tast Antropologia de la Cultura Popular urbana. FMH 2023
LOCATION:
METHOD:PUBLISH
X-WR-CALNAME:info@parets.cat
X-WR-TIMEZONE:Europe/Madrid
DESCRIPTION:Organitza: Servei de Cultura i Associació de Cultures Avui
URI:https://www.parets.cat/actualitat/agenda/visita-guiada-el-perque-de-lexposicio-i-tast-antropologia-de-la-cultura-popular-urbana-fmh-2023.html
CLASS:PUBLIC
END:VEVENT
END:VCALENDAR
