BEGIN:VCALENDAR
VERSION:2.0
CALSCALE:GREGORIAN
PRODID:-//Diputació de Barcelona//DibaCMS//EN
BEGIN:VEVENT
UID:9050
DTSTAMP:20260422T202203
DTSTART:20230113T173000
DTEND:20230113T190000
SUMMARY:Jocs de taula
LOCATION:
METHOD:PUBLISH
X-WR-CALNAME:info@parets.cat
X-WR-TIMEZONE:Europe/Madrid
DESCRIPTION:Organitza: Biblioteca Can Rajoler
URI:https://www.parets.cat/actualitat/agenda/jocs-de-taula.html
CLASS:PUBLIC
END:VEVENT
END:VCALENDAR
