BEGIN:VCALENDAR
VERSION:2.0
CALSCALE:GREGORIAN
PRODID:-//Diputació de Barcelona//DibaCMS//EN
BEGIN:VEVENT
UID:9054
DTSTAMP:20260422T143525
DTSTART:20230117T173000
DTEND:20230117T000000
SUMMARY:Hora del conte: Els calaixos del cel. Festa Major d'Hivern 2023
LOCATION:
METHOD:PUBLISH
X-WR-CALNAME:info@parets.cat
X-WR-TIMEZONE:Europe/Madrid
DESCRIPTION:Organitza: Biblioteca Can Rajoler
URI:https://www.parets.cat/actualitat/agenda/hora-del-conte-els-calaixos-del-cel-festa-major-dhivern-2023.html
CLASS:PUBLIC
END:VEVENT
END:VCALENDAR
