BEGIN:VCALENDAR
VERSION:2.0
CALSCALE:GREGORIAN
PRODID:-//Diputació de Barcelona//DibaCMS//EN
BEGIN:VEVENT
UID:9057
DTSTAMP:20260422T163711
DTSTART:20230119T193000
DTEND:20230119T000000
SUMMARY:Audició-taller: Posar l'orella per poder ballar. Antropologia de la Cultura Urbana. Festa Major d'Hivern 2023
LOCATION:
METHOD:PUBLISH
X-WR-CALNAME:info@parets.cat
X-WR-TIMEZONE:Europe/Madrid
DESCRIPTION:Organitza: Servei de Cultura i Associació de Cultures Avui
URI:https://www.parets.cat/actualitat/agenda/audicio-taller-posar-lorella-per-poder-ballar-antropologia-de-la-cultura-urbana-festa-major-dhivern-2023.html
CLASS:PUBLIC
END:VEVENT
END:VCALENDAR
