BEGIN:VCALENDAR
VERSION:2.0
CALSCALE:GREGORIAN
PRODID:-//Diputació de Barcelona//DibaCMS//EN
BEGIN:VEVENT
UID:9058
DTSTAMP:20260422T195140
DTSTART:20230120T183000
DTEND:20230120T000000
SUMMARY:Canta Parets 2023! Festa Major d'Hivern
LOCATION:
METHOD:PUBLISH
X-WR-CALNAME:info@parets.cat
X-WR-TIMEZONE:Europe/Madrid
DESCRIPTION:Organitza: Escola Municipal de Música
URI:https://www.parets.cat/actualitat/agenda/canta-parets-2023-festa-major-dhivern.html
CLASS:PUBLIC
END:VEVENT
END:VCALENDAR
