BEGIN:VCALENDAR
VERSION:2.0
CALSCALE:GREGORIAN
PRODID:-//Diputació de Barcelona//DibaCMS//EN
BEGIN:VEVENT
UID:9059
DTSTAMP:20260422T143717
DTSTART:20230120T203000
DTEND:20230120T000000
SUMMARY:Medalles de la Vila 2022-12-05
LOCATION:
METHOD:PUBLISH
X-WR-CALNAME:info@parets.cat
X-WR-TIMEZONE:Europe/Madrid
DESCRIPTION:Organitza: Ajuntament de Parets del Vallès
URI:https://www.parets.cat/actualitat/agenda/medalles-de-la-vila-2022-12-05.html
CLASS:PUBLIC
END:VEVENT
END:VCALENDAR
