BEGIN:VCALENDAR
VERSION:2.0
CALSCALE:GREGORIAN
PRODID:-//Diputació de Barcelona//DibaCMS//EN
BEGIN:VEVENT
UID:9061
DTSTAMP:20260422T163858
DTSTART:20230121T090000
DTEND:20230121T000000
SUMMARY:Torneig de tennis taula. Festa Major d'Hivern 2023
LOCATION:
METHOD:PUBLISH
X-WR-CALNAME:info@parets.cat
X-WR-TIMEZONE:Europe/Madrid
DESCRIPTION:Organitza: Club de Tennis Taula Parets
URI:https://www.parets.cat/actualitat/agenda/torneig-de-tennis-taula-festa-major-dhivern-2023.html
CLASS:PUBLIC
END:VEVENT
END:VCALENDAR
