BEGIN:VCALENDAR
VERSION:2.0
CALSCALE:GREGORIAN
PRODID:-//Diputació de Barcelona//DibaCMS//EN
BEGIN:VEVENT
UID:9062
DTSTAMP:20260422T131616
DTSTART:20230121T110000
DTEND:20230121T000000
SUMMARY:Toc de campanes i tronada d'inici de la Festa Major d'Hivern 2023
LOCATION:
METHOD:PUBLISH
X-WR-CALNAME:info@parets.cat
X-WR-TIMEZONE:Europe/Madrid
DESCRIPTION:Organitza: Parroquia Sant Esteve i Diables Parets
URI:https://www.parets.cat/actualitat/agenda/toc-de-campanes-i-tronada-dinici-de-la-festa-major-dhivern-2023.html
CLASS:PUBLIC
END:VEVENT
END:VCALENDAR
