BEGIN:VCALENDAR
VERSION:2.0
CALSCALE:GREGORIAN
PRODID:-//Diputació de Barcelona//DibaCMS//EN
BEGIN:VEVENT
UID:9064
DTSTAMP:20260422T181811
DTSTART:20230121T112000
DTEND:20230121T000000
SUMMARY:Pilar de Festa Major d'Hivern 2023
LOCATION:
METHOD:PUBLISH
X-WR-CALNAME:info@parets.cat
X-WR-TIMEZONE:Europe/Madrid
DESCRIPTION:Organitza: Colla Castellera Manyacs de Parets del Vallès
URI:https://www.parets.cat/actualitat/agenda/pilar-de-festa-major-dhivern-2023.html
CLASS:PUBLIC
END:VEVENT
END:VCALENDAR
