BEGIN:VCALENDAR
VERSION:2.0
CALSCALE:GREGORIAN
PRODID:-//Diputació de Barcelona//DibaCMS//EN
BEGIN:VEVENT
UID:9065
DTSTAMP:20260422T143636
DTSTART:20230121T110000
DTEND:20230121T203000
SUMMARY:Pessebre Monumental  sobre taula 230m2. Festa Major d'Hivern 2023
LOCATION:
METHOD:PUBLISH
X-WR-CALNAME:info@parets.cat
X-WR-TIMEZONE:Europe/Madrid
DESCRIPTION:Organitza: Agrupació pessebrista Parets del Vallès
URI:https://www.parets.cat/actualitat/agenda/pessebre-monumental-sobre-taula-230m2-festa-major-dhivern-2023.html
CLASS:PUBLIC
END:VEVENT
END:VCALENDAR
