BEGIN:VCALENDAR
VERSION:2.0
CALSCALE:GREGORIAN
PRODID:-//Diputació de Barcelona//DibaCMS//EN
BEGIN:VEVENT
UID:9067
DTSTAMP:20260422T162146
DTSTART:20230121T110000
DTEND:20230121T000000
SUMMARY:Plantada VI Trobada Bestiari Diables Parets
LOCATION:
METHOD:PUBLISH
X-WR-CALNAME:info@parets.cat
X-WR-TIMEZONE:Europe/Madrid
DESCRIPTION:Organitza: Diables Parets
URI:https://www.parets.cat/actualitat/agenda/plantada-vi-trobada-bestiari-diables-parets.html
CLASS:PUBLIC
END:VEVENT
END:VCALENDAR
