BEGIN:VCALENDAR
VERSION:2.0
CALSCALE:GREGORIAN
PRODID:-//Diputació de Barcelona//DibaCMS//EN
BEGIN:VEVENT
UID:9068
DTSTAMP:20260422T163559
DTSTART:20230121T140000
DTEND:20230121T000000
SUMMARY:XXV Calçotada Popular. Festa Major d'Hivern 2023.
LOCATION:
METHOD:PUBLISH
X-WR-CALNAME:info@parets.cat
X-WR-TIMEZONE:Europe/Madrid
DESCRIPTION:Organitza: Casal de Cultura de Can Butjosa
URI:https://www.parets.cat/actualitat/agenda/xxv-calcotada-popular-festa-major-dhivern-2023.html
CLASS:PUBLIC
END:VEVENT
END:VCALENDAR
