BEGIN:VCALENDAR
VERSION:2.0
CALSCALE:GREGORIAN
PRODID:-//Diputació de Barcelona//DibaCMS//EN
BEGIN:VEVENT
UID:9069
DTSTAMP:20260422T112357
DTSTART:20230121T170000
DTEND:20230121T000000
SUMMARY:VI Trobada de Bèsties i XXV Desfilada Infernal. Festa Major d'hivern 2023.
LOCATION:
METHOD:PUBLISH
X-WR-CALNAME:info@parets.cat
X-WR-TIMEZONE:Europe/Madrid
DESCRIPTION:Organitza: Diables Parets
URI:https://www.parets.cat/actualitat/agenda/vi-trobada-de-besties-i-xxv-desfilada-infernal-festa-major-dhivern-2023.html
CLASS:PUBLIC
END:VEVENT
END:VCALENDAR
