BEGIN:VCALENDAR
VERSION:2.0
CALSCALE:GREGORIAN
PRODID:-//Diputació de Barcelona//DibaCMS//EN
BEGIN:VEVENT
UID:9070
DTSTAMP:20260422T093113
DTSTART:20230121T220000
DTEND:20230121T000000
SUMMARY:Jazz som aqui! Pep Plaza & Big Band Jazz Maresme
LOCATION:
METHOD:PUBLISH
X-WR-CALNAME:info@parets.cat
X-WR-TIMEZONE:Europe/Madrid
DESCRIPTION:Organitza: Servei de Cultura
URI:https://www.parets.cat/actualitat/agenda/jazz-som-aqui-pep-plaza-and-big-band-jazz-maresme.html
CLASS:PUBLIC
END:VEVENT
END:VCALENDAR
