BEGIN:VCALENDAR
VERSION:2.0
CALSCALE:GREGORIAN
PRODID:-//Diputació de Barcelona//DibaCMS//EN
BEGIN:VEVENT
UID:9071
DTSTAMP:20260422T112250
DTSTART:20230121T230000
DTEND:20230121T000000
SUMMARY:Concert al Pavelló. Hotel Cochambre i Dj. Alan
LOCATION:
METHOD:PUBLISH
X-WR-CALNAME:info@parets.cat
X-WR-TIMEZONE:Europe/Madrid
DESCRIPTION:Organitza: Servei de Cultura i Comissió de Festes
URI:https://www.parets.cat/actualitat/agenda/concert-al-pavello-hotel-cochambre-i-dj-alan.html
CLASS:PUBLIC
END:VEVENT
END:VCALENDAR
