BEGIN:VCALENDAR
VERSION:2.0
CALSCALE:GREGORIAN
PRODID:-//Diputació de Barcelona//DibaCMS//EN
BEGIN:VEVENT
UID:9072
DTSTAMP:20260422T142452
DTSTART:20230121T100000
DTEND:20230121T000000
SUMMARY:Concurs de fotografia Festa Major Hivern
LOCATION:
METHOD:PUBLISH
X-WR-CALNAME:info@parets.cat
X-WR-TIMEZONE:Europe/Madrid
DESCRIPTION:Organitza: Associació Fotogràfica Parets
URI:https://www.parets.cat/actualitat/agenda/concurs-de-fotografia-festa-major-hivern.html
CLASS:PUBLIC
END:VEVENT
END:VCALENDAR
