BEGIN:VCALENDAR
VERSION:2.0
CALSCALE:GREGORIAN
PRODID:-//Diputació de Barcelona//DibaCMS//EN
BEGIN:VEVENT
UID:9073
DTSTAMP:20260422T110749
DTSTART:20230121T123000
DTEND:20230121T000000
SUMMARY:Concurs de cuina de la mongeta paretana
LOCATION:
METHOD:PUBLISH
X-WR-CALNAME:info@parets.cat
X-WR-TIMEZONE:Europe/Madrid
DESCRIPTION:Organitza: Servei de Comerç i Turisme
URI:https://www.parets.cat/actualitat/agenda/concurs-de-cuina-de-la-mongeta-paretana.html
CLASS:PUBLIC
END:VEVENT
END:VCALENDAR
