BEGIN:VCALENDAR
VERSION:2.0
CALSCALE:GREGORIAN
PRODID:-//Diputació de Barcelona//DibaCMS//EN
BEGIN:VEVENT
UID:9076
DTSTAMP:20260422T112408
DTSTART:20230122T100000
DTEND:20230122T000000
SUMMARY:XXV Trobada i Plantada de Gegants de Parets
LOCATION:
METHOD:PUBLISH
X-WR-CALNAME:info@parets.cat
X-WR-TIMEZONE:Europe/Madrid
DESCRIPTION:Organitza: Colla de Gegants, Grallers i Bestiari de Parets
URI:https://www.parets.cat/actualitat/agenda/xxv-trobada-i-plantada-de-gegants-de-parets.html
CLASS:PUBLIC
END:VEVENT
END:VCALENDAR
