BEGIN:VCALENDAR
VERSION:2.0
CALSCALE:GREGORIAN
PRODID:-//Diputació de Barcelona//DibaCMS//EN
BEGIN:VEVENT
UID:9079
DTSTAMP:20260422T124721
DTSTART:20230122T110000
DTEND:20230122T000000
SUMMARY:Ballada de Sardanes. Cobla Jovenívola de Sabadell
LOCATION:
METHOD:PUBLISH
X-WR-CALNAME:info@parets.cat
X-WR-TIMEZONE:Europe/Madrid
DESCRIPTION:Organitza: Servei de Cultura i Amics de la Sardana
URI:https://www.parets.cat/actualitat/agenda/ballada-de-sardanes-cobla-jovenivola-de-sabadell.html
CLASS:PUBLIC
END:VEVENT
END:VCALENDAR
