BEGIN:VCALENDAR
VERSION:2.0
CALSCALE:GREGORIAN
PRODID:-//Diputació de Barcelona//DibaCMS//EN
BEGIN:VEVENT
UID:9081
DTSTAMP:20260422T110859
DTSTART:20230122T120000
DTEND:20230122T000000
SUMMARY:Correfoc simulat
LOCATION:
METHOD:PUBLISH
X-WR-CALNAME:info@parets.cat
X-WR-TIMEZONE:Europe/Madrid
DESCRIPTION:Organitza: Diables Parets
URI:https://www.parets.cat/actualitat/agenda/correfoc-simulat.html
CLASS:PUBLIC
END:VEVENT
END:VCALENDAR
