BEGIN:VCALENDAR
VERSION:2.0
CALSCALE:GREGORIAN
PRODID:-//Diputació de Barcelona//DibaCMS//EN
BEGIN:VEVENT
UID:9082
DTSTAMP:20260422T165626
DTSTART:20230122T180000
DTEND:20230122T000000
SUMMARY:Espectacle familiar, La bella dorment
LOCATION:
METHOD:PUBLISH
X-WR-CALNAME:info@parets.cat
X-WR-TIMEZONE:Europe/Madrid
DESCRIPTION:Organitza: Rialles Parets
URI:https://www.parets.cat/actualitat/agenda/espectacle-familiar-la-bella-dorment.html
CLASS:PUBLIC
END:VEVENT
END:VCALENDAR
