BEGIN:VCALENDAR
VERSION:2.0
CALSCALE:GREGORIAN
PRODID:-//Diputació de Barcelona//DibaCMS//EN
BEGIN:VEVENT
UID:9085
DTSTAMP:20260422T110825
DTSTART:20230123T090000
DTEND:20230123T200000
SUMMARY:Acapte de Sang
LOCATION:
METHOD:PUBLISH
X-WR-CALNAME:info@parets.cat
X-WR-TIMEZONE:Europe/Madrid
DESCRIPTION:Organitza: Associació donants de Sang VO i Banc Sang i Teixits
URI:https://www.parets.cat/actualitat/agenda/acapte-de-sang.html
CLASS:PUBLIC
END:VEVENT
END:VCALENDAR
