BEGIN:VCALENDAR
VERSION:2.0
CALSCALE:GREGORIAN
PRODID:-//Diputació de Barcelona//DibaCMS//EN
BEGIN:VEVENT
UID:9086
DTSTAMP:20260422T125212
DTSTART:20230123T160000
DTEND:20230123T000000
SUMMARY:Parc infantil: infables i tallers
LOCATION:
METHOD:PUBLISH
X-WR-CALNAME:info@parets.cat
X-WR-TIMEZONE:Europe/Madrid
DESCRIPTION:Organitza: Servei de Cultura i Comissió de Festes
URI:https://www.parets.cat/actualitat/agenda/parc-infantil-infables-i-tallers.html
CLASS:PUBLIC
END:VEVENT
END:VCALENDAR
