BEGIN:VCALENDAR
VERSION:2.0
CALSCALE:GREGORIAN
PRODID:-//Diputació de Barcelona//DibaCMS//EN
BEGIN:VEVENT
UID:9088
DTSTAMP:20260422T093150
DTSTART:20230123T190000
DTEND:20230123T000000
SUMMARY:Gran reserva de Rhum & Cia
LOCATION:
METHOD:PUBLISH
X-WR-CALNAME:info@parets.cat
X-WR-TIMEZONE:Europe/Madrid
DESCRIPTION:Organitza: Servei de Cultura
URI:https://www.parets.cat/actualitat/agenda/gran-reserva-de-rhum-and-cia.html
CLASS:PUBLIC
END:VEVENT
END:VCALENDAR
