BEGIN:VCALENDAR
VERSION:2.0
CALSCALE:GREGORIAN
PRODID:-//Diputació de Barcelona//DibaCMS//EN
BEGIN:VEVENT
UID:9089
DTSTAMP:20260422T160731
DTSTART:20230123T180000
DTEND:20230123T000000
SUMMARY:Berenar tradicional per a tota la mainada
LOCATION:
METHOD:PUBLISH
X-WR-CALNAME:info@parets.cat
X-WR-TIMEZONE:Europe/Madrid
DESCRIPTION:Organitza: Servei de Cultura i Comissió de Festes de Parets
URI:https://www.parets.cat/actualitat/agenda/berenar-tradicional-per-a-tota-la-mainada.html
CLASS:PUBLIC
END:VEVENT
END:VCALENDAR
