BEGIN:VCALENDAR
VERSION:2.0
CALSCALE:GREGORIAN
PRODID:-//Diputació de Barcelona//DibaCMS//EN
BEGIN:VEVENT
UID:9090
DTSTAMP:20260422T164843
DTSTART:20230124T173000
DTEND:20230124T183000
SUMMARY:Espectacle infantil, Explica'm un circ.
LOCATION:
METHOD:PUBLISH
X-WR-CALNAME:info@parets.cat
X-WR-TIMEZONE:Europe/Madrid
DESCRIPTION:Organitza: Biblioteca Can Rajoler
URI:https://www.parets.cat/actualitat/agenda/espectacle-infantil-explicam-un-circ.html
CLASS:PUBLIC
END:VEVENT
END:VCALENDAR
