BEGIN:VCALENDAR
VERSION:2.0
CALSCALE:GREGORIAN
PRODID:-//Diputació de Barcelona//DibaCMS//EN
BEGIN:VEVENT
UID:9092
DTSTAMP:20260422T151454
DTSTART:20230125T183000
DTEND:20230125T200000
SUMMARY:Butxaca de clàssics, a càrrec de Nil Nadal
LOCATION:
METHOD:PUBLISH
X-WR-CALNAME:info@parets.cat
X-WR-TIMEZONE:Europe/Madrid
DESCRIPTION:Organitza: Biblioteca Can Rajoler
URI:https://www.parets.cat/actualitat/agenda/butxaca-de-classics-a-carrec-de-nil-nadal.html
CLASS:PUBLIC
END:VEVENT
END:VCALENDAR
