BEGIN:VCALENDAR
VERSION:2.0
CALSCALE:GREGORIAN
PRODID:-//Diputació de Barcelona//DibaCMS//EN
BEGIN:VEVENT
UID:9094
DTSTAMP:20260422T131635
DTSTART:20230126T183000
DTEND:20230126T200000
SUMMARY:Presentació del llibre "Pensaments de bat a bat"
LOCATION:
METHOD:PUBLISH
X-WR-CALNAME:info@parets.cat
X-WR-TIMEZONE:Europe/Madrid
DESCRIPTION:Organitza: Biblioteca Can Butjosa
URI:https://www.parets.cat/actualitat/agenda/presentacio-del-llibre-pensaments-de-bat-a-bat.html
CLASS:PUBLIC
END:VEVENT
END:VCALENDAR
