BEGIN:VCALENDAR
VERSION:2.0
CALSCALE:GREGORIAN
PRODID:-//Diputació de Barcelona//DibaCMS//EN
BEGIN:VEVENT
UID:9095
DTSTAMP:20260422T173037
DTSTART:20230126T193000
DTEND:20230126T000000
SUMMARY:Xerrada col·loqui: La festa popular antifranquista Els peluts prenem els carreres Fraga s'irrita!
LOCATION:
METHOD:PUBLISH
X-WR-CALNAME:info@parets.cat
X-WR-TIMEZONE:Europe/Madrid
DESCRIPTION:Organitza: Servei de Cultura i Associació de Cultures Avui
URI:https://www.parets.cat/actualitat/agenda/xerrada-colloqui-la-festa-popular-antifranquista-els-peluts-prenem-els-carreres-fraga-sirrita.html
CLASS:PUBLIC
END:VEVENT
END:VCALENDAR
