BEGIN:VCALENDAR
VERSION:2.0
CALSCALE:GREGORIAN
PRODID:-//Diputació de Barcelona//DibaCMS//EN
BEGIN:VEVENT
UID:9096
DTSTAMP:20260422T145124
DTSTART:20230127T170000
DTEND:20230127T190000
SUMMARY:Taller infantil: Com es crea el paper?
LOCATION:
METHOD:PUBLISH
X-WR-CALNAME:info@parets.cat
X-WR-TIMEZONE:Europe/Madrid
DESCRIPTION:Organitza: Biblioteca de Can Rajoler
URI:https://www.parets.cat/actualitat/agenda/taller-infantil-com-es-crea-el-paper.html
CLASS:PUBLIC
END:VEVENT
END:VCALENDAR
