BEGIN:VCALENDAR
VERSION:2.0
CALSCALE:GREGORIAN
PRODID:-//Diputació de Barcelona//DibaCMS//EN
BEGIN:VEVENT
UID:9102
DTSTAMP:20260422T115411
DTSTART:20230205T103000
DTEND:20230205T000000
SUMMARY:Caminada solidària contra el càncer
LOCATION:
METHOD:PUBLISH
X-WR-CALNAME:info@parets.cat
X-WR-TIMEZONE:Europe/Madrid
DESCRIPTION:Organitza: Parets Contra el Càncer
URI:https://www.parets.cat/actualitat/agenda/caminada-solidaria-contra-el-cancer.html
CLASS:PUBLIC
END:VEVENT
END:VCALENDAR
