BEGIN:VCALENDAR
VERSION:2.0
CALSCALE:GREGORIAN
PRODID:-//Diputació de Barcelona//DibaCMS//EN
BEGIN:VEVENT
UID:9104
DTSTAMP:20260422T174752
DTSTART:20230207T173000
DTEND:20230207T180000
SUMMARY:Story time
LOCATION:
METHOD:PUBLISH
X-WR-CALNAME:info@parets.cat
X-WR-TIMEZONE:Europe/Madrid
DESCRIPTION:Organitza: Biblioteca Can Rajoler
URI:https://www.parets.cat/actualitat/agenda/story-time.html
CLASS:PUBLIC
END:VEVENT
END:VCALENDAR
