BEGIN:VCALENDAR
VERSION:2.0
CALSCALE:GREGORIAN
PRODID:-//Diputació de Barcelona//DibaCMS//EN
BEGIN:VEVENT
UID:9105
DTSTAMP:20260422T180357
DTSTART:20230207T000000
DTEND:20230207T000000
SUMMARY:S.O.S! Tinc un/a fill/a adolescent! 
LOCATION:
METHOD:PUBLISH
X-WR-CALNAME:info@parets.cat
X-WR-TIMEZONE:Europe/Madrid
DESCRIPTION:Organitza: Servei de Juventut
URI:https://www.parets.cat/actualitat/agenda/sos-tinc-una-filla-adolescent-.html
CLASS:PUBLIC
END:VEVENT
END:VCALENDAR
