BEGIN:VCALENDAR
VERSION:2.0
CALSCALE:GREGORIAN
PRODID:-//Diputació de Barcelona//DibaCMS//EN
BEGIN:VEVENT
UID:9108
DTSTAMP:20260422T180729
DTSTART:20230212T000000
DTEND:20230212T000000
SUMMARY:Programació familiar en català. Rialles Parets del Vallès
LOCATION:
METHOD:PUBLISH
X-WR-CALNAME:info@parets.cat
X-WR-TIMEZONE:Europe/Madrid
DESCRIPTION:Organitza: Rialles Parets del Vallès
URI:https://www.parets.cat/actualitat/agenda/programacio-familiar-en-catala-rialles-parets-del-valles.html
CLASS:PUBLIC
END:VEVENT
END:VCALENDAR
