BEGIN:VCALENDAR
VERSION:2.0
CALSCALE:GREGORIAN
PRODID:-//Diputació de Barcelona//DibaCMS//EN
BEGIN:VEVENT
UID:9110
DTSTAMP:20260422T082617
DTSTART:20230215T183000
DTEND:20230215T200000
SUMMARY:Teixim feminismes
LOCATION:
METHOD:PUBLISH
X-WR-CALNAME:info@parets.cat
X-WR-TIMEZONE:Europe/Madrid
DESCRIPTION:Organitza: Biblioteca Can Rajoler
URI:https://www.parets.cat/actualitat/agenda/9110-teixim-feminismes.html
CLASS:PUBLIC
END:VEVENT
END:VCALENDAR
