BEGIN:VCALENDAR
VERSION:2.0
CALSCALE:GREGORIAN
PRODID:-//Diputació de Barcelona//DibaCMS//EN
BEGIN:VEVENT
UID:9113
DTSTAMP:20260422T160653
DTSTART:20230217T171500
DTEND:20230217T184500
SUMMARY:Butxaca de cançons 2
LOCATION:
METHOD:PUBLISH
X-WR-CALNAME:info@parets.cat
X-WR-TIMEZONE:Europe/Madrid
DESCRIPTION:Organitza: Escola municipal de música de Parets del Vallès
URI:https://www.parets.cat/actualitat/agenda/butxaca-de-cancons-2.html
CLASS:PUBLIC
END:VEVENT
END:VCALENDAR
