BEGIN:VCALENDAR
VERSION:2.0
CALSCALE:GREGORIAN
PRODID:-//Diputació de Barcelona//DibaCMS//EN
BEGIN:VEVENT
UID:9115
DTSTAMP:20260422T073848
DTSTART:20230218T110000
DTEND:20230218T120000
SUMMARY:Dissabte en Família
LOCATION:
METHOD:PUBLISH
X-WR-CALNAME:info@parets.cat
X-WR-TIMEZONE:Europe/Madrid
DESCRIPTION:Organitza: Biblioteca Can Butjosa
URI:https://www.parets.cat/actualitat/agenda/9115-dissabte-en-familia.html
CLASS:PUBLIC
END:VEVENT
END:VCALENDAR
