BEGIN:VCALENDAR
VERSION:2.0
CALSCALE:GREGORIAN
PRODID:-//Diputació de Barcelona//DibaCMS//EN
BEGIN:VEVENT
UID:9117
DTSTAMP:20260422T130417
DTSTART:20230219T090000
DTEND:20230219T190000
SUMMARY:Sant Valentí a Parets 2023
LOCATION:
METHOD:PUBLISH
X-WR-CALNAME:info@parets.cat
X-WR-TIMEZONE:Europe/Madrid
DESCRIPTION:Organitza: Albert Garriga Gea, Asociación Española de Speedcubing, Club de Rubik de Catalunya, Jesús Lindo García, and Laura Tarrés Gimeno
URI:https://www.parets.cat/actualitat/agenda/9117-sant-valenti-a-parets-2023.html
CLASS:PUBLIC
END:VEVENT
END:VCALENDAR
