BEGIN:VCALENDAR
VERSION:2.0
CALSCALE:GREGORIAN
PRODID:-//Diputació de Barcelona//DibaCMS//EN
BEGIN:VEVENT
UID:9118
DTSTAMP:20260422T075516
DTSTART:20230221T181500
DTEND:20230221T191500
SUMMARY:Bressol de Contes
LOCATION:
METHOD:PUBLISH
X-WR-CALNAME:info@parets.cat
X-WR-TIMEZONE:Europe/Madrid
DESCRIPTION:Organitza: Biblioteca Can Butjosa
URI:https://www.parets.cat/actualitat/agenda/9118-bressol-de-contes.html
CLASS:PUBLIC
END:VEVENT
END:VCALENDAR
